BEGIN:VCALENDAR
VERSION:2.0
PRODID:-//Juneberry Ridge - ECPv6.15.16//NONSGML v1.0//EN
CALSCALE:GREGORIAN
METHOD:PUBLISH
X-WR-CALNAME:Juneberry Ridge
X-ORIGINAL-URL:https://juneberry.com
X-WR-CALDESC:Events for Juneberry Ridge
REFRESH-INTERVAL;VALUE=DURATION:PT1H
X-Robots-Tag:noindex
X-PUBLISHED-TTL:PT1H
BEGIN:VTIMEZONE
TZID:America/New_York
BEGIN:DAYLIGHT
TZOFFSETFROM:-0500
TZOFFSETTO:-0400
TZNAME:EDT
DTSTART:20240310T070000
END:DAYLIGHT
BEGIN:STANDARD
TZOFFSETFROM:-0400
TZOFFSETTO:-0500
TZNAME:EST
DTSTART:20241103T060000
END:STANDARD
BEGIN:DAYLIGHT
TZOFFSETFROM:-0500
TZOFFSETTO:-0400
TZNAME:EDT
DTSTART:20250309T070000
END:DAYLIGHT
BEGIN:STANDARD
TZOFFSETFROM:-0400
TZOFFSETTO:-0500
TZNAME:EST
DTSTART:20251102T060000
END:STANDARD
BEGIN:DAYLIGHT
TZOFFSETFROM:-0500
TZOFFSETTO:-0400
TZNAME:EDT
DTSTART:20260308T070000
END:DAYLIGHT
BEGIN:STANDARD
TZOFFSETFROM:-0400
TZOFFSETTO:-0500
TZNAME:EST
DTSTART:20261101T060000
END:STANDARD
END:VTIMEZONE
BEGIN:VEVENT
DTSTART;TZID=America/New_York:20251101T100000
DTEND;TZID=America/New_York:20251101T120000
DTSTAMP:20260419T091458
CREATED:20241213T204609Z
LAST-MODIFIED:20250702T195929Z
UID:10000528-1761991200-1761998400@juneberry.com
SUMMARY:Open Shoot 11.1
DESCRIPTION:Clay Shooting at Lucky Clays Five Stand\nLooking for a fun way to spend your morning? Experience the thrill of clay shooting at our world-class open-air facility\, Lucky Clays Five Stand. Whether you’re a beginner or sharpening your skills\, our instructors will guide you every step of the way\, ensuring a safe\, fun\, and enjoyable experience.
URL:https://juneberry.com/events/open-shoot-11-1/
LOCATION:NC
CATEGORIES:Open Shoots,Shooting Sports
ATTACH;FMTTYPE=image/png:https://juneberry.com/wp-content/uploads/2025/06/OPEN-SHOOT-no-date.webp
END:VEVENT
BEGIN:VEVENT
DTSTART;TZID=America/New_York:20251121T180000
DTEND;TZID=America/New_York:20251121T200000
DTSTAMP:20260419T091458
CREATED:20250904T165905Z
LAST-MODIFIED:20250909T161054Z
UID:10000717-1763748000-1763755200@juneberry.com
SUMMARY:Ultraviolet Night Shoot 11.21
DESCRIPTION:Experience clay shooting like never before.   \nAs the sun sets\, step onto our glowing range and experience the thrill of clay shooting at our world-class open-air facilities: Lucky Clays Five Stand. Our night shoot event offers you an electrifying night of clay shooting\, illuminated under ultraviolet black lights. \nNo matter your experience level\, this is your chance to see clay shooting in a whole new light. \n \nFAQ \nWhat if I’ve never shot clays before?  \nNo prior experience is required. Your shooting ticket covers everything you need — gun rental\, ammo\, targets\, eye & ear protection\, safety training\, and instruction. \n \nDo I need to bring a friend?  \nCome solo or with a crew! This is an event ideal for groups of friends\, families\, and couples\, however no partners are required to attend. We provide all the equipment\, and safety instruction needed to make this an unforgettable night. Minors must be 14+ and accompanied by a parent or guardian. \nWill alcohol be served?  \nNo. Safety is our top priority\, and this is an alcohol-free event. \nRain or shine?  \nYes! Our Lucky Clays 5-Stand is a covered space that offers a comfortable setting for both cool and warm weather conditions. We will contact guests to refund or reschedule bookings if we expect severe weather conditions. \nCan I bring my own equipment?  \nYes! Personal shotguns are welcome\, 20 and 12-gauge only. \nCan I stay the night?  \nPlease do! Check out our lodging options in our comfortably attended one-bed cabins and three-bed cottages.
URL:https://juneberry.com/events/ultraviolet-night-shoot-11-21-25/
LOCATION:The Lucky Clays Five Stand at Juneberry Ridge\, 40120 Old Cottonville Rd\, Norwood\, NC\, 28128\, United States
CATEGORIES:Shooting Sports,Ultraviolet Night Shoots
ATTACH;FMTTYPE=image/png:https://juneberry.com/wp-content/uploads/2025/09/2025-Facebook-Website-Ad-1.webp
END:VEVENT
END:VCALENDAR