BEGIN:VCALENDAR
VERSION:2.0
PRODID:-//Juneberry Ridge - ECPv6.15.16//NONSGML v1.0//EN
CALSCALE:GREGORIAN
METHOD:PUBLISH
X-ORIGINAL-URL:https://juneberry.com
X-WR-CALDESC:Events for Juneberry Ridge
REFRESH-INTERVAL;VALUE=DURATION:PT1H
X-Robots-Tag:noindex
X-PUBLISHED-TTL:PT1H
BEGIN:VTIMEZONE
TZID:America/New_York
BEGIN:DAYLIGHT
TZOFFSETFROM:-0500
TZOFFSETTO:-0400
TZNAME:EDT
DTSTART:20210314T070000
END:DAYLIGHT
BEGIN:STANDARD
TZOFFSETFROM:-0400
TZOFFSETTO:-0500
TZNAME:EST
DTSTART:20211107T060000
END:STANDARD
BEGIN:DAYLIGHT
TZOFFSETFROM:-0500
TZOFFSETTO:-0400
TZNAME:EDT
DTSTART:20220313T070000
END:DAYLIGHT
BEGIN:STANDARD
TZOFFSETFROM:-0400
TZOFFSETTO:-0500
TZNAME:EST
DTSTART:20221106T060000
END:STANDARD
BEGIN:DAYLIGHT
TZOFFSETFROM:-0500
TZOFFSETTO:-0400
TZNAME:EDT
DTSTART:20230312T070000
END:DAYLIGHT
BEGIN:STANDARD
TZOFFSETFROM:-0400
TZOFFSETTO:-0500
TZNAME:EST
DTSTART:20231105T060000
END:STANDARD
END:VTIMEZONE
BEGIN:VEVENT
DTSTART;TZID=America/New_York:20220911T110000
DTEND;TZID=America/New_York:20220911T140000
DTSTAMP:20260423T103438
CREATED:20220721T013814Z
LAST-MODIFIED:20250219T163100Z
UID:10000118-1662894000-1662904800@juneberry.com
SUMMARY:Sunday Brunch 9.11
DESCRIPTION:Join us at the Lakeview for Sunday Brunch!\nWith limited seating and growing demand\, we encourage you to purchase tickets in advance. \nTicket purchase cutoff at 10am on day of brunch.  \n**If you have not purchased tickets in advance you may email info@juneberry.com to ask if we may be able to accommodate your party.  \nSample Menu:\nBuild-Your-Own Salad \nbutterhead lettuce with blue cheese\, buttermilk dressing\, tomatoes and bacon  \n  \nBiscuits/Rolls  \nMuffins  \nGrits  \nCinnamon Rolls  \nOmelet Station  \nWaffle Station  \nSausage Gravy  \nHashbrown Casserole  \nBacon and Sausage  \nFruit  \nJuice  \nCoffee  \nDesserts  \n  \n*Bloody Mary’s and mimosas available a-la-carte\n*25% off bottles of wine\n  \n$30 brunch ticket \nKids eat free \n  \n 
URL:https://juneberry.com/events/sunday-brunch-9-11/
LOCATION:Toadhouse Conference Center at Juneberry Ridge\, 40120 Old Cottonville Road\, Norwood\, NC\, 28128\, United States
CATEGORIES:Brunch,Dining Experiences
ATTACH;FMTTYPE=image/png:https://juneberry.com/wp-content/uploads/2022/03/Facebook-Website-Ad_-Sunday-Brunch-No-Date.webp
END:VEVENT
BEGIN:VEVENT
DTSTART;TZID=America/New_York:20220925T110000
DTEND;TZID=America/New_York:20220925T140000
DTSTAMP:20260423T103438
CREATED:20220721T020104Z
LAST-MODIFIED:20250219T163048Z
UID:10000119-1664103600-1664114400@juneberry.com
SUMMARY:Sunday Brunch 9.25
DESCRIPTION:Join us at the Lakeview for Sunday Brunch!\nWith limited seating and growing demand\, we encourage you to purchase tickets in advance. \nTicket purchase cutoff at 10am on day of brunch.  \n**If you have not purchased tickets in advance you may email info@juneberry.com to ask if we may be able to accommodate your party.  \nSample Menu:\nBuild-Your-Own Salad \nbutterhead lettuce with blue cheese\, buttermilk dressing\, tomatoes and bacon  \n  \nBiscuits/Rolls  \nMuffins  \nGrits  \nCinnamon Rolls  \nOmelet Station  \nWaffle Station  \nSausage Gravy  \nHashbrown Casserole  \nBacon and Sausage  \nFruit  \nJuice  \nCoffee  \nDesserts  \n  \n*Bloody Mary’s and mimosas available a-la-carte\n*25% off bottles of wine\n  \n$30 brunch ticket \nKids eat free \n  \n 
URL:https://juneberry.com/events/sunday-brunch-9-25/
LOCATION:Toadhouse Conference Center at Juneberry Ridge\, 40120 Old Cottonville Road\, Norwood\, NC\, 28128\, United States
CATEGORIES:Brunch,Dining Experiences
ATTACH;FMTTYPE=image/png:https://juneberry.com/wp-content/uploads/2022/03/Facebook-Website-Ad_-Sunday-Brunch-No-Date.webp
END:VEVENT
END:VCALENDAR