BEGIN:VCALENDAR
VERSION:2.0
PRODID:-//Juneberry Ridge - ECPv6.15.16//NONSGML v1.0//EN
CALSCALE:GREGORIAN
METHOD:PUBLISH
X-WR-CALNAME:Juneberry Ridge
X-ORIGINAL-URL:https://juneberry.com
X-WR-CALDESC:Events for Juneberry Ridge
REFRESH-INTERVAL;VALUE=DURATION:PT1H
X-Robots-Tag:noindex
X-PUBLISHED-TTL:PT1H
BEGIN:VTIMEZONE
TZID:America/New_York
BEGIN:DAYLIGHT
TZOFFSETFROM:-0500
TZOFFSETTO:-0400
TZNAME:EDT
DTSTART:20250309T070000
END:DAYLIGHT
BEGIN:STANDARD
TZOFFSETFROM:-0400
TZOFFSETTO:-0500
TZNAME:EST
DTSTART:20251102T060000
END:STANDARD
BEGIN:DAYLIGHT
TZOFFSETFROM:-0500
TZOFFSETTO:-0400
TZNAME:EDT
DTSTART:20260308T070000
END:DAYLIGHT
BEGIN:STANDARD
TZOFFSETFROM:-0400
TZOFFSETTO:-0500
TZNAME:EST
DTSTART:20261101T060000
END:STANDARD
BEGIN:DAYLIGHT
TZOFFSETFROM:-0500
TZOFFSETTO:-0400
TZNAME:EDT
DTSTART:20270314T070000
END:DAYLIGHT
BEGIN:STANDARD
TZOFFSETFROM:-0400
TZOFFSETTO:-0500
TZNAME:EST
DTSTART:20271107T060000
END:STANDARD
END:VTIMEZONE
BEGIN:VEVENT
DTSTART;TZID=America/New_York:20260517T103000
DTEND;TZID=America/New_York:20260517T133000
DTSTAMP:20260422T121110
CREATED:20260420T134403Z
LAST-MODIFIED:20260420T172439Z
UID:10000848-1779013800-1779024600@juneberry.com
SUMMARY:Sunday Brunch
DESCRIPTION:Seasonal Sunday Brunch.\nFeast on our farm-fresh brunch buffet featuring our chef’s choice of brunch classics\, greenhouse salad bar\, and select fruits and desserts. \nTickets include food and non-alcoholic beverages only. House cocktails are available a-la-carte.  \nIf you have a large party request or any general questions\, please email info@juneberry.com or call 704-474-7398
URL:https://juneberry.com/events/sunday-brunch-5-17-26/
LOCATION:Toadhouse Conference Center at Juneberry Ridge\, 40120 Old Cottonville Road\, Norwood\, NC\, 28128\, United States
CATEGORIES:Brunch,Dining Experiences
ATTACH;FMTTYPE=image/png:https://juneberry.com/wp-content/uploads/2026/01/Sunday-Brunch-3.webp
END:VEVENT
BEGIN:VEVENT
DTSTART;TZID=America/New_York:20260607T103000
DTEND;TZID=America/New_York:20260607T133000
DTSTAMP:20260422T121110
CREATED:20260420T140347Z
LAST-MODIFIED:20260420T140347Z
UID:10000849-1780828200-1780839000@juneberry.com
SUMMARY:Sunday Brunch
DESCRIPTION:Seasonal Sunday Brunch.\nFeast on our farm-fresh brunch buffet featuring our chef’s choice of brunch classics\, greenhouse salad bar\, and select fruits and desserts. \nTickets include food and non-alcoholic beverages only. House cocktails are available a-la-carte.  \nIf you have a large party request or any general questions\, please email info@juneberry.com or call 704-474-7398
URL:https://juneberry.com/events/sunday-brunch-5-7-26/
LOCATION:Toadhouse Conference Center at Juneberry Ridge\, 40120 Old Cottonville Road\, Norwood\, NC\, 28128\, United States
CATEGORIES:Brunch,Dining Experiences
ATTACH;FMTTYPE=image/png:https://juneberry.com/wp-content/uploads/2026/01/Sunday-Brunch-3.webp
END:VEVENT
END:VCALENDAR