BEGIN:VCALENDAR
VERSION:2.0
PRODID:-//Juneberry Ridge - ECPv6.15.16//NONSGML v1.0//EN
CALSCALE:GREGORIAN
METHOD:PUBLISH
X-WR-CALNAME:Juneberry Ridge
X-ORIGINAL-URL:https://juneberry.com
X-WR-CALDESC:Events for Juneberry Ridge
REFRESH-INTERVAL;VALUE=DURATION:PT1H
X-Robots-Tag:noindex
X-PUBLISHED-TTL:PT1H
BEGIN:VTIMEZONE
TZID:America/New_York
BEGIN:DAYLIGHT
TZOFFSETFROM:-0500
TZOFFSETTO:-0400
TZNAME:EDT
DTSTART:20240310T070000
END:DAYLIGHT
BEGIN:STANDARD
TZOFFSETFROM:-0400
TZOFFSETTO:-0500
TZNAME:EST
DTSTART:20241103T060000
END:STANDARD
BEGIN:DAYLIGHT
TZOFFSETFROM:-0500
TZOFFSETTO:-0400
TZNAME:EDT
DTSTART:20250309T070000
END:DAYLIGHT
BEGIN:STANDARD
TZOFFSETFROM:-0400
TZOFFSETTO:-0500
TZNAME:EST
DTSTART:20251102T060000
END:STANDARD
BEGIN:DAYLIGHT
TZOFFSETFROM:-0500
TZOFFSETTO:-0400
TZNAME:EDT
DTSTART:20260308T070000
END:DAYLIGHT
BEGIN:STANDARD
TZOFFSETFROM:-0400
TZOFFSETTO:-0500
TZNAME:EST
DTSTART:20261101T060000
END:STANDARD
END:VTIMEZONE
BEGIN:VEVENT
DTSTART;TZID=America/New_York:20250711T103000
DTEND;TZID=America/New_York:20250711T123000
DTSTAMP:20260424T082022
CREATED:20250501T201954Z
LAST-MODIFIED:20250627T180216Z
UID:10000641-1752229800-1752237000@juneberry.com
SUMMARY:Fields & Flavors Tour 7.11
DESCRIPTION:Explore our fields\, see our animals\, and taste the flavors of the season\n10:30 am – 12:30 pm: Fields & Flavors Tour\n1:00 – 2:00 pm: Lunch at the Toadhouse \nJoin us for a delicious Farmer’s Lunch at our scenic Toadhouse venue\, featuring fresh flavors of the season prepared by our culinary team.  \nThen\, get a behind-the-scenes look at life on our working farm\, guided by our knowledgeable team. You might come across wild mushrooms\, edible plants\, or native herbs you’ve never seen before. You’ll learn about how grasslands and soil are central to our farming mission. Depending on the season you’ll be able to see and learn about our farm animals as they graze in our pastures and contribute to the health of our ecosystem.   \nThis is your chance to experience regenerative farming up close—seeing\, tasting\, and feeling the incredible variety our farm has to offer. Along the way\, you’ll learn how we work with nature to grow healthy\, nutrient-packed food without relying on pesticides. \nEvery tour is a unique experience\, offering a view into the dynamic life of our working farm. Join us to see what the season has in store—you never know what you’ll uncover at Juneberry Ridge.
URL:https://juneberry.com/events/fields-flavors-tour-7-11/
LOCATION:Toadhouse Conference Center at Juneberry Ridge\, 40120 Old Cottonville Road\, Norwood\, NC\, 28128\, United States
CATEGORIES:Fields and Flavors,Open Farm
ATTACH;FMTTYPE=image/png:https://juneberry.com/wp-content/uploads/2025/05/2025-Facebook-Website-Ad.webp
END:VEVENT
BEGIN:VEVENT
DTSTART;TZID=America/New_York:20250712T120000
DTEND;TZID=America/New_York:20250712T153000
DTSTAMP:20260424T082022
CREATED:20250501T202537Z
LAST-MODIFIED:20250701T185844Z
UID:10000642-1752321600-1752334200@juneberry.com
SUMMARY:Garden to Glass 7.12
DESCRIPTION:Join us for lunch\, an immersive greenhouse tour\, and a herbal infusion mixology experience\n12:00-1:00 pm: Lunch at the Toadhouse\n1:00-2:00 pm: Greenhouse tour and herb growing class\n2:00-3:30 pm: Herbal infusion mixology class \nEnjoy a family-style lunch at noon featuring seasonal flavors from our farm. Afterwards\, dive into our two-and-a-half-hour workshop where we’ll take you on a journey into our aquaponic greenhouse to learn about growing plants for flavor and nutrition and how you can transform a fresh harvest into delicious cocktails or mocktails. \n \nExplore herbs\, history\, and growing plants with fish as natural fertilizers \nAt 1:00pm our Garden to Glass Mixology experience begins. We’ll begin your journey with a guided tour of our aquaponic greenhouse to learn about growing plants healthfully in a closed water based system where fish supply natural fertilizers. You’ll get to see plants at all stages of development from seedling to full maturity. We’ll walk you through harvesting techniques and provide tips to help you get the most of harvesting herbs of your own. \nLearn tools and techniques to transform fresh garden herbs into delicious drinks \nAt 2:00pm\, and with holistic plant knowledge fresh on your mind\, we’ll take you further on a journey into plant-based mixology. Our culinary team will show you how to mix and infuse unique flavors to create delicious cocktails and alcohol-free mocktails that everyone can enjoy. This is a hands-on\, active\, and fun activity for individuals and groups to enjoy. \n*Guests will meet at the Toadhouse event venue\, our shuttle will depart at 1:05pm to bring guests to our Culinary Greenhouse. Guests will end their experience back at the Toadhouse by 3:30pm.
URL:https://juneberry.com/events/garden-to-glass-7-12/
LOCATION:Toadhouse Conference Center at Juneberry Ridge\, 40120 Old Cottonville Road\, Norwood\, NC\, 28128\, United States
CATEGORIES:Garden to Glass,Open Farm
ATTACH;FMTTYPE=image/png:https://juneberry.com/wp-content/uploads/2025/03/Garden-to-Glass.webp
END:VEVENT
END:VCALENDAR