BEGIN:VCALENDAR
VERSION:2.0
PRODID:-//Juneberry Ridge - ECPv6.15.16//NONSGML v1.0//EN
CALSCALE:GREGORIAN
METHOD:PUBLISH
X-ORIGINAL-URL:https://juneberry.com
X-WR-CALDESC:Events for Juneberry Ridge
REFRESH-INTERVAL;VALUE=DURATION:PT1H
X-Robots-Tag:noindex
X-PUBLISHED-TTL:PT1H
BEGIN:VTIMEZONE
TZID:America/New_York
BEGIN:DAYLIGHT
TZOFFSETFROM:-0500
TZOFFSETTO:-0400
TZNAME:EDT
DTSTART:20250309T070000
END:DAYLIGHT
BEGIN:STANDARD
TZOFFSETFROM:-0400
TZOFFSETTO:-0500
TZNAME:EST
DTSTART:20251102T060000
END:STANDARD
BEGIN:DAYLIGHT
TZOFFSETFROM:-0500
TZOFFSETTO:-0400
TZNAME:EDT
DTSTART:20260308T070000
END:DAYLIGHT
BEGIN:STANDARD
TZOFFSETFROM:-0400
TZOFFSETTO:-0500
TZNAME:EST
DTSTART:20261101T060000
END:STANDARD
BEGIN:DAYLIGHT
TZOFFSETFROM:-0500
TZOFFSETTO:-0400
TZNAME:EDT
DTSTART:20270314T070000
END:DAYLIGHT
BEGIN:STANDARD
TZOFFSETFROM:-0400
TZOFFSETTO:-0500
TZNAME:EST
DTSTART:20271107T060000
END:STANDARD
END:VTIMEZONE
BEGIN:VEVENT
DTSTART;TZID=America/New_York:20260213T120000
DTEND;TZID=America/New_York:20260213T130000
DTSTAMP:20260422T072829
CREATED:20260113T193840Z
LAST-MODIFIED:20260113T193840Z
UID:10000739-1770984000-1770987600@juneberry.com
SUMMARY:Farmer's Lunch 2.13
DESCRIPTION:Gather around our community table for a meal to celebrate the season.  \nOur Farmer’s Lunch features freshly harvested foods from our farm and local partners. \nThink crisp spring greens\, sun-kissed summer tomatoes\, hearty fall squashes\, and winter root vegetables\, whatever the season brings\, we bring it to the table. It’s a meal that’s as fresh as it gets\, full of flavor\, and rooted in our commitment to working in harmony with nature. \nEvery bite tells the story of what’s growing here at Juneberry Ridge. We can’t wait to share it with you.
URL:https://juneberry.com/events/farmers-lunch-2-13-26/
LOCATION:Toadhouse Conference Center at Juneberry Ridge\, 40120 Old Cottonville Road\, Norwood\, NC\, 28128\, United States
CATEGORIES:Dining Experiences,Farmer's Lunch
ATTACH;FMTTYPE=image/png:https://juneberry.com/wp-content/uploads/2025/05/Farmers-Lunch.webp
END:VEVENT
BEGIN:VEVENT
DTSTART;TZID=America/New_York:20260213T183000
DTEND;TZID=America/New_York:20260213T203000
DTSTAMP:20260422T072829
CREATED:20260128T213050Z
LAST-MODIFIED:20260128T213412Z
UID:10000755-1771007400-1771014600@juneberry.com
SUMMARY:Farmer's Dinner 2.13
DESCRIPTION:Gather around our community table for a meal to celebrate the season.  \nOur Farmer’s Dinner is a family-style meal where every dish is inspired by the season and made to share.  \nImagine passing platters of crisp spring salads\, roasted summer vegetables\, hearty fall casseroles\, or winter-inspired dishes featuring roasted root vegetables. What’s on your plate depends on what’s freshly harvested from our farm and from local partners. \nAt Juneberry Ridge\, dinner is more than just a meal\, it’s a chance to connect\, share\, and celebrate the bounty of the farm. \nTickets include food only. Wine\, beer\, and non-alcoholic beverages are available a-la-carte.  \nIf you or your guests have allergies\, please contact us before purchasing a ticket. Vegan\, vegetarian\, and gluten free options may not be available without advanced notice.
URL:https://juneberry.com/events/farmers-dinner-2-13-26/
LOCATION:Toadhouse Conference Center at Juneberry Ridge\, 40120 Old Cottonville Road\, Norwood\, NC\, 28128\, United States
CATEGORIES:Dining Experiences,Farmer's Dinner
ATTACH;FMTTYPE=image/png:https://juneberry.com/wp-content/uploads/2026/01/2026-Facebook-Website-Ad.webp
END:VEVENT
BEGIN:VEVENT
DTSTART;TZID=America/New_York:20260214T120000
DTEND;TZID=America/New_York:20260214T130000
DTSTAMP:20260422T072829
CREATED:20260119T193538Z
LAST-MODIFIED:20260119T193538Z
UID:10000740-1771070400-1771074000@juneberry.com
SUMMARY:Farmer's Lunch 2.14
DESCRIPTION:Gather around our community table for a meal to celebrate the season.  \nOur Farmer’s Lunch features freshly harvested foods from our farm and local partners. \nThink crisp spring greens\, sun-kissed summer tomatoes\, hearty fall squashes\, and winter root vegetables\, whatever the season brings\, we bring it to the table. It’s a meal that’s as fresh as it gets\, full of flavor\, and rooted in our commitment to working in harmony with nature. \nEvery bite tells the story of what’s growing here at Juneberry Ridge. We can’t wait to share it with you.
URL:https://juneberry.com/events/farmers-lunch-2-14-26/
LOCATION:NC
CATEGORIES:Dining Experiences,Farmer's Lunch
ATTACH;FMTTYPE=image/png:https://juneberry.com/wp-content/uploads/2025/05/Farmers-Lunch.webp
END:VEVENT
BEGIN:VEVENT
DTSTART;TZID=America/New_York:20260214T183000
DTEND;TZID=America/New_York:20260214T203000
DTSTAMP:20260422T072829
CREATED:20251216T211324Z
LAST-MODIFIED:20260120T184100Z
UID:10000736-1771093800-1771101000@juneberry.com
SUMMARY:Valentine's Farm-to-Fork Dinner 2.14
DESCRIPTION:Discover the flavors of the season through a four-course dining experience.\nOur Valentine’s Farm-to-Fork Dinners bring people together at our community table to appreciate elevated farm flavors\, engaging conversations\, and a renewed connection to the land. \nOur culinary team crafts menus using freshly harvested ingredients from our farm and local partners. Every dish tells a story of the land\, the farmers\, and the care that goes into each ingredient. \nOptional add-on: Elevate your dining experience with thoughtfully curated wine pairings\, craft beers\, or non-alcoholic beverages.
URL:https://juneberry.com/events/farm-to-fork-2-14-26/
LOCATION:Toadhouse Conference Center at Juneberry Ridge\, 40120 Old Cottonville Road\, Norwood\, NC\, 28128\, United States
CATEGORIES:Dining Experiences,Farm-to-Fork Dinner
ATTACH;FMTTYPE=image/png:https://juneberry.com/wp-content/uploads/2025/05/Farm-to-Fork-Dinner-no-date.webp
END:VEVENT
BEGIN:VEVENT
DTSTART;TZID=America/New_York:20260215T103000
DTEND;TZID=America/New_York:20260215T133000
DTSTAMP:20260422T072829
CREATED:20260120T214800Z
LAST-MODIFIED:20260213T173936Z
UID:10000745-1771151400-1771162200@juneberry.com
SUMMARY:Sunday Brunch 2.15
DESCRIPTION:Farm Fresh Sunday Brunch.\nFeast on our farm fresh brunch buffet featuring our chef’s choice of brunch classics\, greenhouse salad bar\, and select fruits and deserts. \nTickets include food and non-alcoholic beverages only. House cocktails are available a-la-carte.  \n\n\n\n\n\n\n\nWhen purchasing\, please select Seating One (10:30 AM) or Seating Two (12:15 PM). Seating is limited\, so we encourage early booking. \n\n\n\n\n\n\n\nIf you have a large party request or any general questions\, please email info@juneberry.com or call 704-474-7398
URL:https://juneberry.com/events/sunday-brunch-2-15-26/
LOCATION:Toadhouse Conference Center at Juneberry Ridge\, 40120 Old Cottonville Road\, Norwood\, NC\, 28128\, United States
CATEGORIES:Brunch,Dining Experiences
ATTACH;FMTTYPE=image/png:https://juneberry.com/wp-content/uploads/2026/01/Sunday-Brunch-2.webp
END:VEVENT
BEGIN:VEVENT
DTSTART;TZID=America/New_York:20260221T120000
DTEND;TZID=America/New_York:20260221T130000
DTSTAMP:20260422T072829
CREATED:20260128T214323Z
LAST-MODIFIED:20260128T214323Z
UID:10000756-1771675200-1771678800@juneberry.com
SUMMARY:Farmer's Lunch 2.21
DESCRIPTION:Gather around our community table for a meal to celebrate the season.  \nOur Farmer’s Lunch features freshly harvested foods from our farm and local partners. \nThink crisp spring greens\, sun-kissed summer tomatoes\, hearty fall squashes\, and winter root vegetables\, whatever the season brings\, we bring it to the table. It’s a meal that’s as fresh as it gets\, full of flavor\, and rooted in our commitment to working in harmony with nature. \nEvery bite tells the story of what’s growing here at Juneberry Ridge. We can’t wait to share it with you.
URL:https://juneberry.com/events/farmers-lunch-2-21-26/
LOCATION:Toadhouse Conference Center at Juneberry Ridge\, 40120 Old Cottonville Road\, Norwood\, NC\, 28128\, United States
CATEGORIES:Dining Experiences,Farmer's Lunch
ATTACH;FMTTYPE=image/png:https://juneberry.com/wp-content/uploads/2025/05/Farmers-Lunch.webp
END:VEVENT
BEGIN:VEVENT
DTSTART;TZID=America/New_York:20260221T183000
DTEND;TZID=America/New_York:20260221T203000
DTSTAMP:20260422T072829
CREATED:20251216T205502Z
LAST-MODIFIED:20260129T204613Z
UID:10000735-1771698600-1771705800@juneberry.com
SUMMARY:Farm-to-Fork Dinner 2.21
DESCRIPTION:Our Signature Farm-to-Fork Dinners bring people together at our community table to appreciate elevated farm flavors\, engaging conversations\, and a renewed connection to the land. \nOur culinary team crafts menus using freshly harvested ingredients from our farm and local partners. Every dish tells a story of the land\, the farmers\, and the care that goes into each ingredient. \nOptional add-on: Elevate your dining experience with thoughtfully curated wine pairings\, craft beers\, or non-alcoholic beverages.
URL:https://juneberry.com/events/farm-to-fork-2-21-26/
LOCATION:Toadhouse Conference Center at Juneberry Ridge\, 40120 Old Cottonville Road\, Norwood\, NC\, 28128\, United States
CATEGORIES:Dining Experiences,Farm-to-Fork Dinner
ATTACH;FMTTYPE=image/png:https://juneberry.com/wp-content/uploads/2025/05/Farm-to-Fork-Dinner-no-date.webp
END:VEVENT
BEGIN:VEVENT
DTSTART;TZID=America/New_York:20260222T103000
DTEND;TZID=America/New_York:20260222T133000
DTSTAMP:20260422T072829
CREATED:20260120T215316Z
LAST-MODIFIED:20260120T215316Z
UID:10000746-1771756200-1771767000@juneberry.com
SUMMARY:Sunday Brunch 2.22
DESCRIPTION:Farm Fresh Sunday Brunch.\nFeast on our farm fresh brunch buffet featuring our chef’s choice of brunch classics\, greenhouse salad bar\, and select fruits and deserts. \nTickets include food and non-alcoholic beverages only. House cocktails are available a-la-carte.  \n\n\n\n\n\n\n\nWhen purchasing\, please select Seating One (10:30 AM) or Seating Two (12:15 PM). Seating is limited\, so we encourage early booking. \n\n\n\n\n\n\n\nIf you have a large party request or any general questions\, please email info@juneberry.com or call 704-474-7398
URL:https://juneberry.com/events/sunday-brunch-2-22/
LOCATION:Toadhouse Conference Center at Juneberry Ridge\, 40120 Old Cottonville Road\, Norwood\, NC\, 28128\, United States
CATEGORIES:Brunch,Dining Experiences
ATTACH;FMTTYPE=image/png:https://juneberry.com/wp-content/uploads/2026/01/Sunday-Brunch-3.webp
END:VEVENT
END:VCALENDAR