BEGIN:VCALENDAR
VERSION:2.0
PRODID:-//Juneberry Ridge - ECPv6.15.16//NONSGML v1.0//EN
CALSCALE:GREGORIAN
METHOD:PUBLISH
X-WR-CALNAME:Juneberry Ridge
X-ORIGINAL-URL:https://juneberry.com
X-WR-CALDESC:Events for Juneberry Ridge
REFRESH-INTERVAL;VALUE=DURATION:PT1H
X-Robots-Tag:noindex
X-PUBLISHED-TTL:PT1H
BEGIN:VTIMEZONE
TZID:America/New_York
BEGIN:DAYLIGHT
TZOFFSETFROM:-0500
TZOFFSETTO:-0400
TZNAME:EDT
DTSTART:20240310T070000
END:DAYLIGHT
BEGIN:STANDARD
TZOFFSETFROM:-0400
TZOFFSETTO:-0500
TZNAME:EST
DTSTART:20241103T060000
END:STANDARD
BEGIN:DAYLIGHT
TZOFFSETFROM:-0500
TZOFFSETTO:-0400
TZNAME:EDT
DTSTART:20250309T070000
END:DAYLIGHT
BEGIN:STANDARD
TZOFFSETFROM:-0400
TZOFFSETTO:-0500
TZNAME:EST
DTSTART:20251102T060000
END:STANDARD
BEGIN:DAYLIGHT
TZOFFSETFROM:-0500
TZOFFSETTO:-0400
TZNAME:EDT
DTSTART:20260308T070000
END:DAYLIGHT
BEGIN:STANDARD
TZOFFSETFROM:-0400
TZOFFSETTO:-0500
TZNAME:EST
DTSTART:20261101T060000
END:STANDARD
END:VTIMEZONE
BEGIN:VEVENT
DTSTART;TZID=America/New_York:20251107T120000
DTEND;TZID=America/New_York:20251107T130000
DTSTAMP:20260424T073646
CREATED:20250714T184215Z
LAST-MODIFIED:20250714T193722Z
UID:10000688-1762516800-1762520400@juneberry.com
SUMMARY:Farmer's Lunch 11.7
DESCRIPTION:Gather around our community table for a meal to celebrate the season.  \nOur Farmer’s Lunch features freshly harvested foods from our farm and local partners. \nThink crisp spring greens\, sun-kissed summer tomatoes\, hearty fall squashes\, and winter root vegetables—whatever the season brings\, we bring it to the table. It’s a meal that’s as fresh as it gets\, full of flavor\, and rooted in our commitment to working in harmony with nature. \nEvery bite tells the story of what’s growing here at Juneberry Ridge. We can’t wait to share it with you. \nIf you or your guests have allergies\, please contact us before purchasing a ticket. Vegan\, vegetarian\, and gluten free options may not be available without advanced notice.
URL:https://juneberry.com/events/farmers-lunch-11-7/
LOCATION:Toadhouse Conference Center at Juneberry Ridge\, 40120 Old Cottonville Road\, Norwood\, NC\, 28128\, United States
CATEGORIES:Dining Experiences,Farmer's Lunch
ATTACH;FMTTYPE=image/png:https://juneberry.com/wp-content/uploads/2025/05/Farmers-Lunch.webp
END:VEVENT
BEGIN:VEVENT
DTSTART;TZID=America/New_York:20251107T183000
DTEND;TZID=America/New_York:20251107T203000
DTSTAMP:20260424T073646
CREATED:20250715T133145Z
LAST-MODIFIED:20250715T133145Z
UID:10000695-1762540200-1762547400@juneberry.com
SUMMARY:Farmer's Dinner 11.7
DESCRIPTION:Gather around our community table for a meal to celebrate the season.  \nOur Farmer’s Dinner is a family-style meal where every dish is inspired by the season and made to share.  \nImagine passing platters of crisp spring salads\, roasted summer vegetables\, hearty fall casseroles\, or winter-inspired dishes featuring roasted root vegetables. What’s on your plate depends on what’s freshly harvested from our farm and from local partners. \nAt Juneberry Ridge\, dinner is more than just a meal—it’s a chance to connect\, share\, and celebrate the bounty of the farm. \nTickets include food only. Wine\, beer\, and non-alcoholic beverages are available a-la-carte.  \nIf you or your guests have allergies\, please contact us before purchasing a ticket. Vegan\, vegetarian\, and gluten free options may not be available without advanced notice.
URL:https://juneberry.com/events/farmers-dinner-11-7-25/
LOCATION:Toadhouse Conference Center at Juneberry Ridge\, 40120 Old Cottonville Road\, Norwood\, NC\, 28128\, United States
CATEGORIES:Dining Experiences,Farmer's Dinner
ATTACH;FMTTYPE=image/png:https://juneberry.com/wp-content/uploads/2025/05/Farmers-Lunch-2.webp
END:VEVENT
BEGIN:VEVENT
DTSTART;TZID=America/New_York:20251108T120000
DTEND;TZID=America/New_York:20251108T130000
DTSTAMP:20260424T073646
CREATED:20250714T193631Z
LAST-MODIFIED:20250714T193631Z
UID:10000685-1762603200-1762606800@juneberry.com
SUMMARY:Farmer's Lunch 11.8
DESCRIPTION:Gather around our community table for a meal to celebrate the season.  \nOur Farmer’s Lunch features freshly harvested foods from our farm and local partners. \nThink crisp spring greens\, sun-kissed summer tomatoes\, hearty fall squashes\, and winter root vegetables—whatever the season brings\, we bring it to the table. It’s a meal that’s as fresh as it gets\, full of flavor\, and rooted in our commitment to working in harmony with nature. \nEvery bite tells the story of what’s growing here at Juneberry Ridge. We can’t wait to share it with you. \nIf you or your guests have allergies\, please contact us before purchasing a ticket. Vegan\, vegetarian\, and gluten free options may not be available without advanced notice.
URL:https://juneberry.com/events/farmers-lunch-11-8-25/
LOCATION:Toadhouse Conference Center at Juneberry Ridge\, 40120 Old Cottonville Road\, Norwood\, NC\, 28128\, United States
CATEGORIES:Dining Experiences,Farmer's Lunch
ATTACH;FMTTYPE=image/png:https://juneberry.com/wp-content/uploads/2025/05/Farmers-Lunch.webp
END:VEVENT
BEGIN:VEVENT
DTSTART;TZID=America/New_York:20251108T183000
DTEND;TZID=America/New_York:20251108T203000
DTSTAMP:20260424T073646
CREATED:20250715T174751Z
LAST-MODIFIED:20250715T174751Z
UID:10000707-1762626600-1762633800@juneberry.com
SUMMARY:Farm-to-Fork Dinner 11.8
DESCRIPTION:Discover the flavors of the season through a four course dining experience.\nOur Signature Farm-to-Fork Dinners bring people together at our community table to appreciate elevated farm flavors\, engaging conversations\, and a renewed connection to the land. \nOur culinary team crafts menus using freshly harvested ingredients from our farm and local partners. Every dish tells a story of the land\, the farmers\, and the care that goes into each ingredient. \nOptional add-on: Elevate your dining experience with thoughtfully curated wine pairings\, craft beers\, or non-alcoholic beverages. \nIf you or your guests have allergies\, please contact us before purchasing a ticket. Vegan\, vegetarian\, and gluten free options may not be available without advanced notice.
URL:https://juneberry.com/events/farm-to-fork-dinner-11-8-25/
LOCATION:Toadhouse Conference Center at Juneberry Ridge\, 40120 Old Cottonville Road\, Norwood\, NC\, 28128\, United States
CATEGORIES:Dining Experiences,Farm-to-Fork Dinner
ATTACH;FMTTYPE=image/png:https://juneberry.com/wp-content/uploads/2025/05/Farm-to-Fork-Dinner-no-date-3.webp
END:VEVENT
BEGIN:VEVENT
DTSTART;TZID=America/New_York:20251109T103000
DTEND;TZID=America/New_York:20251109T114500
DTSTAMP:20260424T073646
CREATED:20250716T140958Z
LAST-MODIFIED:20251031T155621Z
UID:10000712-1762684200-1762688700@juneberry.com
SUMMARY:Sunday Brunch 11.9 (First Seating: 10:30 AM)
DESCRIPTION:Farm Fresh Sunday Brunch.\nFeast on our farm fresh brunch buffet featuring our chef’s choice of brunch classics\, greenhouse salad bar\, and select fruits and deserts. \nTickets include food and non-alcoholic beverages only. House cocktails are available a-la-carte.  \nWe also have a second seating at 12:15 PM. With limited seating and growing demand\, we encourage you to purchase tickets early. \nIf you have a large party request or any general questions\, please email info@juneberry.com or call 704-474-7398
URL:https://juneberry.com/events/sunday-brunch-11-9-25-first-seating/
LOCATION:Toadhouse Conference Center at Juneberry Ridge\, 40120 Old Cottonville Road\, Norwood\, NC\, 28128\, United States
CATEGORIES:Brunch,Dining Experiences
ATTACH;FMTTYPE=image/png:https://juneberry.com/wp-content/uploads/2025/05/Sunday-Brunch-4.webp
END:VEVENT
BEGIN:VEVENT
DTSTART;TZID=America/New_York:20251109T121500
DTEND;TZID=America/New_York:20251109T133000
DTSTAMP:20260424T073646
CREATED:20251031T155340Z
LAST-MODIFIED:20251031T155548Z
UID:10000726-1762690500-1762695000@juneberry.com
SUMMARY:Sunday Brunch 11.9 (Second Seating: 12:15 PM)
DESCRIPTION:Farm Fresh Sunday Brunch.\nFeast on our farm fresh brunch buffet featuring our chef’s choice of brunch classics\, greenhouse salad bar\, and select fruits and deserts. \nTickets include food and non-alcoholic beverages only. House cocktails are available a-la-carte.  \nWe also have a first seating at 10:30 AM. With limited seating and growing demand\, we encourage you to purchase tickets early. \nIf you have a large party request or any general questions\, please email info@juneberry.com or call 704-474-7398
URL:https://juneberry.com/events/sunday-brunch-11-9-25-second-seating/
LOCATION:Toadhouse Conference Center at Juneberry Ridge\, 40120 Old Cottonville Road\, Norwood\, NC\, 28128\, United States
CATEGORIES:Brunch,Dining Experiences
ATTACH;FMTTYPE=image/png:https://juneberry.com/wp-content/uploads/2025/05/Sunday-Brunch-7.webp
END:VEVENT
BEGIN:VEVENT
DTSTART;TZID=America/New_York:20251115T120000
DTEND;TZID=America/New_York:20251115T130000
DTSTAMP:20260424T073646
CREATED:20250714T195100Z
LAST-MODIFIED:20250714T195100Z
UID:10000686-1763208000-1763211600@juneberry.com
SUMMARY:Farmer's Lunch 11.15
DESCRIPTION:Gather around our community table for a meal to celebrate the season.  \nOur Farmer’s Lunch features freshly harvested foods from our farm and local partners. \nThink crisp spring greens\, sun-kissed summer tomatoes\, hearty fall squashes\, and winter root vegetables—whatever the season brings\, we bring it to the table. It’s a meal that’s as fresh as it gets\, full of flavor\, and rooted in our commitment to working in harmony with nature. \nEvery bite tells the story of what’s growing here at Juneberry Ridge. We can’t wait to share it with you. \nIf you or your guests have allergies\, please contact us before purchasing a ticket. Vegan\, vegetarian\, and gluten free options may not be available without advanced notice.
URL:https://juneberry.com/events/farmers-lunch-11-15-25/
LOCATION:Toadhouse Conference Center at Juneberry Ridge\, 40120 Old Cottonville Road\, Norwood\, NC\, 28128\, United States
CATEGORIES:Dining Experiences,Farmer's Lunch
ATTACH;FMTTYPE=image/png:https://juneberry.com/wp-content/uploads/2025/05/Farmers-Lunch.webp
END:VEVENT
BEGIN:VEVENT
DTSTART;TZID=America/New_York:20251115T183000
DTEND;TZID=America/New_York:20251115T203000
DTSTAMP:20260424T073646
CREATED:20250715T175119Z
LAST-MODIFIED:20250715T175119Z
UID:10000708-1763231400-1763238600@juneberry.com
SUMMARY:Farm-to-Fork Dinner 11.15
DESCRIPTION:Discover the flavors of the season through a four course dining experience.\nOur Signature Farm-to-Fork Dinners bring people together at our community table to appreciate elevated farm flavors\, engaging conversations\, and a renewed connection to the land. \nOur culinary team crafts menus using freshly harvested ingredients from our farm and local partners. Every dish tells a story of the land\, the farmers\, and the care that goes into each ingredient. \nOptional add-on: Elevate your dining experience with thoughtfully curated wine pairings\, craft beers\, or non-alcoholic beverages. \nIf you or your guests have allergies\, please contact us before purchasing a ticket. Vegan\, vegetarian\, and gluten free options may not be available without advanced notice.
URL:https://juneberry.com/events/farm-to-fork-dinner-11-15-25/
LOCATION:Toadhouse Conference Center at Juneberry Ridge\, 40120 Old Cottonville Road\, Norwood\, NC\, 28128\, United States
CATEGORIES:Dining Experiences,Farm-to-Fork Dinner
ATTACH;FMTTYPE=image/png:https://juneberry.com/wp-content/uploads/2025/05/Farm-to-Fork-Dinner-no-date.webp
END:VEVENT
BEGIN:VEVENT
DTSTART;TZID=America/New_York:20251116T103000
DTEND;TZID=America/New_York:20251116T114500
DTSTAMP:20260424T073646
CREATED:20250716T141001Z
LAST-MODIFIED:20251031T155941Z
UID:10000713-1763289000-1763293500@juneberry.com
SUMMARY:Sunday Brunch 11.16 (First Seating: 10:30 AM)
DESCRIPTION:Farm Fresh Sunday Brunch.\nFeast on our farm fresh brunch buffet featuring our chef’s choice of brunch classics\, greenhouse salad bar\, and select fruits and deserts. \nTickets include food and non-alcoholic beverages only. House cocktails are available a-la-carte.  \nWe also have a second seating at 12:15 PM. With limited seating and growing demand\, we encourage you to purchase tickets early. \nIf you have a large party request or any general questions\, please email info@juneberry.com or call 704-474-7398
URL:https://juneberry.com/events/sunday-brunch-11-16-25/
LOCATION:Toadhouse Conference Center at Juneberry Ridge\, 40120 Old Cottonville Road\, Norwood\, NC\, 28128\, United States
CATEGORIES:Brunch,Dining Experiences
ATTACH;FMTTYPE=image/png:https://juneberry.com/wp-content/uploads/2025/05/Sunday-Brunch.webp
END:VEVENT
BEGIN:VEVENT
DTSTART;TZID=America/New_York:20251116T121500
DTEND;TZID=America/New_York:20251116T133000
DTSTAMP:20260424T073646
CREATED:20251031T155353Z
LAST-MODIFIED:20251031T160024Z
UID:10000725-1763295300-1763299800@juneberry.com
SUMMARY:Sunday Brunch 11.16 (Second Seating: 12:15 PM)
DESCRIPTION:Farm Fresh Sunday Brunch.\nFeast on our farm fresh brunch buffet featuring our chef’s choice of brunch classics\, greenhouse salad bar\, and select fruits and deserts. \nTickets include food and non-alcoholic beverages only. House cocktails are available a-la-carte.  \nWe also have a first seating at 10:30 AM. With limited seating and growing demand\, we encourage you to purchase tickets early. \nIf you have a large party request or any general questions\, please email info@juneberry.com or call 704-474-7398
URL:https://juneberry.com/events/sunday-brunch-11-16-second-seating/
LOCATION:Toadhouse Conference Center at Juneberry Ridge\, 40120 Old Cottonville Road\, Norwood\, NC\, 28128\, United States
CATEGORIES:Brunch,Dining Experiences
ATTACH;FMTTYPE=image/png:https://juneberry.com/wp-content/uploads/2025/05/Sunday-Brunch-3.webp
END:VEVENT
END:VCALENDAR